Package: h5mread Version: 0.99.4 Command: /Library/Frameworks/R.framework/Resources/bin/R CMD INSTALL h5mread StartedAt: 2025-02-18 15:10:56 -0500 (Tue, 18 Feb 2025) EndedAt: 2025-02-18 15:11:24 -0500 (Tue, 18 Feb 2025) EllapsedTime: 28.2 seconds RetCode: 0 Status: OK