Package: h5mread Version: 0.99.4 Command: /Library/Frameworks/R.framework/Resources/bin/R CMD check --install=check:h5mread.install-out.txt --library=/Library/Frameworks/R.framework/Resources/library --no-vignettes --timings h5mread_0.99.4.tar.gz StartedAt: 2025-02-18 20:50:36 -0500 (Tue, 18 Feb 2025) EndedAt: 2025-02-18 20:55:48 -0500 (Tue, 18 Feb 2025) EllapsedTime: 311.8 seconds RetCode: 0 Status: WARNINGS CheckDir: h5mread.Rcheck Warnings: 2