Package: gypsum Version: 1.3.0 Command: /home/biocbuild/bbs-3.21-bioc/R/bin/R CMD INSTALL gypsum StartedAt: 2025-02-20 15:12:42 -0500 (Thu, 20 Feb 2025) EndedAt: 2025-02-20 15:12:45 -0500 (Thu, 20 Feb 2025) EllapsedTime: 3.7 seconds RetCode: 0 Status: OK