Package: gypsum Version: 1.3.0 Command: /home/biocbuild/bbs-3.21-bioc/R/bin/R CMD build --keep-empty-dirs --no-resave-data gypsum StartedAt: 2025-02-20 17:43:48 -0500 (Thu, 20 Feb 2025) EndedAt: 2025-02-20 17:43:56 -0500 (Thu, 20 Feb 2025) EllapsedTime: 8.0 seconds RetCode: 0 Status: OK PackageFile: gypsum_1.3.0.tar.gz PackageFileSize: 274.6 KiB