Package: gypsum Version: 1.3.0 Command: /Library/Frameworks/R.framework/Resources/bin/R CMD INSTALL gypsum StartedAt: 2025-02-20 15:07:35 -0500 (Thu, 20 Feb 2025) EndedAt: 2025-02-20 15:08:04 -0500 (Thu, 20 Feb 2025) EllapsedTime: 29.2 seconds RetCode: 0 Status: OK