Package: gwasurvivr Version: 1.25.0 Command: /Library/Frameworks/R.framework/Resources/bin/R CMD check --install=check:gwasurvivr.install-out.txt --library=/Library/Frameworks/R.framework/Resources/library --no-vignettes --timings gwasurvivr_1.25.0.tar.gz StartedAt: 2025-02-20 19:38:17 -0500 (Thu, 20 Feb 2025) EndedAt: 2025-02-20 19:40:45 -0500 (Thu, 20 Feb 2025) EllapsedTime: 147.8 seconds RetCode: 0 Status: OK CheckDir: gwasurvivr.Rcheck Warnings: 0