Package: gwasurvivr Version: 1.25.0 Command: /Library/Frameworks/R.framework/Resources/bin/R CMD build --keep-empty-dirs --no-resave-data gwasurvivr StartedAt: 2025-02-20 16:35:22 -0500 (Thu, 20 Feb 2025) EndedAt: 2025-02-20 16:36:24 -0500 (Thu, 20 Feb 2025) EllapsedTime: 61.7 seconds RetCode: 0 Status: OK PackageFile: gwasurvivr_1.25.0.tar.gz PackageFileSize: 343.2 KiB