Package: gwascat Version: 2.39.0 Command: E:\biocbuild\bbs-3.21-bioc\R\bin\R.exe CMD check --no-multiarch --install=check:gwascat.install-out.txt --library=E:\biocbuild\bbs-3.21-bioc\R\library --no-vignettes --timings gwascat_2.39.0.tar.gz StartedAt: 2025-02-21 02:06:45 -0500 (Fri, 21 Feb 2025) EndedAt: 2025-02-21 02:16:30 -0500 (Fri, 21 Feb 2025) EllapsedTime: 584.6 seconds RetCode: 1 Status: ERROR CheckDir: gwascat.Rcheck Warnings: NA