Package: gwascat Version: 2.39.0 Command: /Library/Frameworks/R.framework/Resources/bin/R CMD INSTALL gwascat StartedAt: 2025-02-19 15:35:42 -0500 (Wed, 19 Feb 2025) EndedAt: 2025-02-19 15:36:59 -0500 (Wed, 19 Feb 2025) EllapsedTime: 76.0 seconds RetCode: 0 Status: OK