Package: gwascat Version: 2.39.0 Command: /Library/Frameworks/R.framework/Resources/bin/R CMD build --keep-empty-dirs --no-resave-data gwascat StartedAt: 2025-02-20 16:55:58 -0500 (Thu, 20 Feb 2025) EndedAt: 2025-02-20 17:04:20 -0500 (Thu, 20 Feb 2025) EllapsedTime: 502.0 seconds RetCode: 0 Status: OK PackageFile: gwascat_2.39.0.tar.gz PackageFileSize: 33.78 MiB