Package: gwascat Version: 2.39.0 Command: rm -rf gwascat.buildbin-libdir && mkdir gwascat.buildbin-libdir && /Users/biocbuild/BBS/utils/build-universal.sh gwascat_2.39.0.tar.gz /Library/Frameworks/R.framework/Resources/bin/R gwascat.buildbin-libdir StartedAt: 2025-02-21 00:34:22 -0500 (Fri, 21 Feb 2025) EndedAt: 2025-02-21 00:35:29 -0500 (Fri, 21 Feb 2025) EllapsedTime: 67.0 seconds RetCode: 0 Status: OK PackageFile: gwascat_2.39.0.tgz PackageFileSize: 34.23 MiB