############################################################################## ############################################################################## ### ### Running command: ### ### /home/biocbuild/bbs-3.21-bioc/R/bin/R CMD INSTALL groHMM ### ############################################################################## ############################################################################## * installing to library ‘/home/biocbuild/bbs-3.21-bioc/R/site-library’ * installing *source* package ‘groHMM’ ... ** this is package ‘groHMM’ version ‘1.41.0’ ** using staged installation ** libs using C compiler: ‘gcc (Ubuntu 13.3.0-6ubuntu2~24.04) 13.3.0’ gcc -std=gnu2x -I"/home/biocbuild/bbs-3.21-bioc/R/include" -DNDEBUG -I/usr/local/include -fpic -g -O2 -c AnnotateProbes.c -o AnnotateProbes.o gcc -std=gnu2x -I"/home/biocbuild/bbs-3.21-bioc/R/include" -DNDEBUG -I/usr/local/include -fpic -g -O2 -c DecayAlgorithm.c -o DecayAlgorithm.o DecayAlgorithm.c: In function ‘getTranscriptPositions’: DecayAlgorithm.c:94:15: error: expected identifier or ‘(’ before ‘false’ 94 | const int false= 0; | ^~~~~ make: *** [/home/biocbuild/bbs-3.21-bioc/R/etc/Makeconf:201: DecayAlgorithm.o] Error 1 ERROR: compilation failed for package ‘groHMM’ * removing ‘/home/biocbuild/bbs-3.21-bioc/R/site-library/groHMM’