Package: groHMM Version: 1.41.0 Command: /Library/Frameworks/R.framework/Resources/bin/R CMD build --keep-empty-dirs --no-resave-data groHMM StartedAt: 2025-02-20 16:54:05 -0500 (Thu, 20 Feb 2025) EndedAt: 2025-02-20 16:54:08 -0500 (Thu, 20 Feb 2025) EllapsedTime: 3.4 seconds RetCode: 1 Status: ERROR PackageFile: None PackageFileSize: NA