Package: groHMM Version: 1.41.0 Command: /Library/Frameworks/R.framework/Resources/bin/R CMD INSTALL groHMM StartedAt: 2025-02-20 15:09:01 -0500 (Thu, 20 Feb 2025) EndedAt: 2025-02-20 15:09:02 -0500 (Thu, 20 Feb 2025) EllapsedTime: 1.1 seconds RetCode: 1 Status: ERROR