Package: graphite Version: 1.53.0 Command: rm -rf graphite.buildbin-libdir && mkdir graphite.buildbin-libdir && E:\biocbuild\bbs-3.21-bioc\R\bin\R.exe CMD INSTALL --build --library=graphite.buildbin-libdir graphite_1.53.0.tar.gz StartedAt: 2025-02-21 08:14:44 -0500 (Fri, 21 Feb 2025) EndedAt: 2025-02-21 08:15:21 -0500 (Fri, 21 Feb 2025) EllapsedTime: 36.3 seconds RetCode: 0 Status: OK PackageFile: graphite_1.53.0.zip PackageFileSize: 900.7 KiB