Package: graphite Version: 1.53.0 Command: /home/biocbuild/bbs-3.21-bioc/R/bin/R CMD build --keep-empty-dirs --no-resave-data graphite StartedAt: 2025-02-19 17:30:34 -0500 (Wed, 19 Feb 2025) EndedAt: 2025-02-19 17:31:31 -0500 (Wed, 19 Feb 2025) EllapsedTime: 57.0 seconds RetCode: 0 Status: OK PackageFile: graphite_1.53.0.tar.gz PackageFileSize: 766.7 KiB