Package: graphite Version: 1.54.0 Command: /home/biocbuild/R/R/bin/R CMD INSTALL graphite StartedAt: 2025-10-13 20:39:41 -0000 (Mon, 13 Oct 2025) EndedAt: 2025-10-13 20:40:00 -0000 (Mon, 13 Oct 2025) EllapsedTime: 19.1 seconds RetCode: 0 Status: OK