Package: graph Version: 1.85.1 Command: /home/biocbuild/bbs-3.21-bioc/R/bin/R CMD check --install=check:graph.install-out.txt --library=/home/biocbuild/bbs-3.21-bioc/R/site-library --timings graph_1.85.1.tar.gz StartedAt: 2025-02-20 22:31:30 -0500 (Thu, 20 Feb 2025) EndedAt: 2025-02-20 22:32:40 -0500 (Thu, 20 Feb 2025) EllapsedTime: 70.1 seconds RetCode: 1 Status: ERROR CheckDir: graph.Rcheck Warnings: NA