Package: graper Version: 1.23.0 Command: chmod a+r graper -R && E:\biocbuild\bbs-3.21-bioc\R\bin\R.exe CMD build --keep-empty-dirs --no-resave-data graper StartedAt: 2025-02-19 19:06:03 -0500 (Wed, 19 Feb 2025) EndedAt: 2025-02-19 19:06:50 -0500 (Wed, 19 Feb 2025) EllapsedTime: 47.3 seconds RetCode: 1 Status: ERROR PackageFile: None PackageFileSize: NA