Package: graper Version: 1.23.0 Command: rm -rf graper.buildbin-libdir && mkdir graper.buildbin-libdir && E:\biocbuild\bbs-3.21-bioc\R\bin\R.exe CMD INSTALL --build --library=graper.buildbin-libdir graper_1.23.0.tar.gz StartedAt: 2024-12-17 07:15:14 -0500 (Tue, 17 Dec 2024) EndedAt: 2024-12-17 07:15:54 -0500 (Tue, 17 Dec 2024) EllapsedTime: 40.3 seconds RetCode: 0 Status: OK PackageFile: graper_1.23.0.zip PackageFileSize: 1.081 MiB