Package: graper Version: 1.23.0 Command: /home/biocbuild/bbs-3.21-bioc/R/bin/R CMD build --keep-empty-dirs --no-resave-data graper StartedAt: 2025-02-19 17:30:19 -0500 (Wed, 19 Feb 2025) EndedAt: 2025-02-19 17:30:33 -0500 (Wed, 19 Feb 2025) EllapsedTime: 14.0 seconds RetCode: 1 Status: ERROR PackageFile: None PackageFileSize: NA