Package: graper Version: 1.23.0 Command: /Library/Frameworks/R.framework/Resources/bin/R CMD build --keep-empty-dirs --no-resave-data graper StartedAt: 2025-02-19 16:53:39 -0500 (Wed, 19 Feb 2025) EndedAt: 2025-02-19 16:53:50 -0500 (Wed, 19 Feb 2025) EllapsedTime: 11.6 seconds RetCode: 1 Status: ERROR PackageFile: None PackageFileSize: NA