Package: graper Version: 1.23.0 Command: /Library/Frameworks/R.framework/Resources/bin/R CMD build --keep-empty-dirs --no-resave-data graper StartedAt: 2025-02-19 16:33:26 -0500 (Wed, 19 Feb 2025) EndedAt: 2025-02-19 16:33:31 -0500 (Wed, 19 Feb 2025) EllapsedTime: 4.0 seconds RetCode: 1 Status: ERROR PackageFile: None PackageFileSize: NA