Package: granulator Version: 1.15.0 Command: E:\biocbuild\bbs-3.21-bioc\R\bin\R.exe CMD INSTALL granulator StartedAt: 2025-02-20 15:53:08 -0500 (Thu, 20 Feb 2025) EndedAt: 2025-02-20 15:53:38 -0500 (Thu, 20 Feb 2025) EllapsedTime: 29.9 seconds RetCode: 0 Status: OK