Package: granulator Version: 1.15.0 Command: E:\biocbuild\bbs-3.21-bioc\R\bin\R.exe CMD check --no-multiarch --install=check:granulator.install-out.txt --library=E:\biocbuild\bbs-3.21-bioc\R\library --no-vignettes --timings granulator_1.15.0.tar.gz StartedAt: 2025-02-21 02:00:35 -0500 (Fri, 21 Feb 2025) EndedAt: 2025-02-21 02:11:09 -0500 (Fri, 21 Feb 2025) EllapsedTime: 634.7 seconds RetCode: 0 Status: OK CheckDir: granulator.Rcheck Warnings: 0