Package: granulator Version: 1.15.0 Command: /home/biocbuild/bbs-3.21-bioc/R/bin/R CMD INSTALL granulator StartedAt: 2025-02-20 15:19:34 -0500 (Thu, 20 Feb 2025) EndedAt: 2025-02-20 15:19:44 -0500 (Thu, 20 Feb 2025) EllapsedTime: 9.9 seconds RetCode: 0 Status: OK