Package: granulator Version: 1.15.0 Command: /home/biocbuild/bbs-3.21-bioc/R/bin/R CMD check --install=check:granulator.install-out.txt --library=/home/biocbuild/bbs-3.21-bioc/R/site-library --timings granulator_1.15.0.tar.gz StartedAt: 2025-02-20 22:31:28 -0500 (Thu, 20 Feb 2025) EndedAt: 2025-02-20 22:43:43 -0500 (Thu, 20 Feb 2025) EllapsedTime: 735.0 seconds RetCode: 0 Status: OK CheckDir: granulator.Rcheck Warnings: 0