Package: granulator Version: 1.15.0 Command: /home/biocbuild/bbs-3.21-bioc/R/bin/R CMD build --keep-empty-dirs --no-resave-data granulator StartedAt: 2025-02-20 17:40:27 -0500 (Thu, 20 Feb 2025) EndedAt: 2025-02-20 17:43:37 -0500 (Thu, 20 Feb 2025) EllapsedTime: 190.2 seconds RetCode: 0 Status: OK PackageFile: granulator_1.15.0.tar.gz PackageFileSize: 1.291 MiB