Package: granulator Version: 1.15.0 Command: /home/biocbuild/R/R/bin/R CMD INSTALL granulator StartedAt: 2025-01-29 20:15:28 -0000 (Wed, 29 Jan 2025) EndedAt: 2025-01-29 20:15:29 -0000 (Wed, 29 Jan 2025) EllapsedTime: 1.2 seconds RetCode: 1 Status: ERROR