Package: granulator Version: 1.15.0 Command: /Library/Frameworks/R.framework/Resources/bin/R CMD check --install=check:granulator.install-out.txt --library=/Library/Frameworks/R.framework/Resources/library --no-vignettes --timings granulator_1.15.0.tar.gz StartedAt: 2025-02-20 19:35:38 -0500 (Thu, 20 Feb 2025) EndedAt: 2025-02-20 19:38:40 -0500 (Thu, 20 Feb 2025) EllapsedTime: 182.2 seconds RetCode: 0 Status: OK CheckDir: granulator.Rcheck Warnings: 0