Package: granulator Version: 1.15.0 Command: /Library/Frameworks/R.framework/Resources/bin/R CMD build --keep-empty-dirs --no-resave-data granulator StartedAt: 2025-02-20 16:33:04 -0500 (Thu, 20 Feb 2025) EndedAt: 2025-02-20 16:34:03 -0500 (Thu, 20 Feb 2025) EllapsedTime: 58.7 seconds RetCode: 0 Status: OK PackageFile: granulator_1.15.0.tar.gz PackageFileSize: 1.329 MiB