Package: gpuMagic Version: 1.23.0 Command: E:\biocbuild\bbs-3.21-bioc\R\bin\R.exe CMD INSTALL gpuMagic StartedAt: 2025-02-20 15:32:21 -0500 (Thu, 20 Feb 2025) EndedAt: 2025-02-20 15:32:26 -0500 (Thu, 20 Feb 2025) EllapsedTime: 5.0 seconds RetCode: 1 Status: ERROR