Package: gpuMagic Version: 1.23.0 Command: chmod a+r gpuMagic -R && E:\biocbuild\bbs-3.21-bioc\R\bin\R.exe CMD build --keep-empty-dirs --no-resave-data gpuMagic StartedAt: 2025-02-20 19:07:44 -0500 (Thu, 20 Feb 2025) EndedAt: 2025-02-20 19:07:53 -0500 (Thu, 20 Feb 2025) EllapsedTime: 8.7 seconds RetCode: 1 Status: ERROR PackageFile: None PackageFileSize: NA