Package: gpuMagic Version: 1.23.0 Command: rm -rf gpuMagic.buildbin-libdir && mkdir gpuMagic.buildbin-libdir && E:\biocbuild\bbs-3.21-bioc\R\bin\R.exe CMD INSTALL --build --library=gpuMagic.buildbin-libdir gpuMagic_1.23.0.tar.gz StartedAt: 2025-01-22 07:44:42 -0500 (Wed, 22 Jan 2025) EndedAt: 2025-01-22 07:45:59 -0500 (Wed, 22 Jan 2025) EllapsedTime: 77.7 seconds RetCode: 0 Status: OK PackageFile: gpuMagic_1.23.0.zip PackageFileSize: 1.564 MiB