Package: gpuMagic Version: 1.23.0 Command: /Library/Frameworks/R.framework/Resources/bin/R CMD build --keep-empty-dirs --no-resave-data gpuMagic StartedAt: 2025-02-20 16:53:10 -0500 (Thu, 20 Feb 2025) EndedAt: 2025-02-20 16:53:13 -0500 (Thu, 20 Feb 2025) EllapsedTime: 3.5 seconds RetCode: 1 Status: ERROR PackageFile: None PackageFileSize: NA