Package: gpuMagic Version: 1.23.0 Command: /home/biocbuild/R/R/bin/R CMD INSTALL gpuMagic StartedAt: 2025-01-29 19:59:49 -0000 (Wed, 29 Jan 2025) EndedAt: 2025-01-29 19:59:51 -0000 (Wed, 29 Jan 2025) EllapsedTime: 1.8 seconds RetCode: 1 Status: ERROR