Package: gpls Version: 1.79.0 Command: E:\biocbuild\bbs-3.21-bioc\R\bin\R.exe CMD INSTALL gpls StartedAt: 2025-02-20 15:17:10 -0500 (Thu, 20 Feb 2025) EndedAt: 2025-02-20 15:17:18 -0500 (Thu, 20 Feb 2025) EllapsedTime: 8.2 seconds RetCode: 0 Status: OK