Package: gpls Version: 1.79.0 Command: E:\biocbuild\bbs-3.21-bioc\R\bin\R.exe CMD check --no-multiarch --install=check:gpls.install-out.txt --library=E:\biocbuild\bbs-3.21-bioc\R\library --no-vignettes --timings gpls_1.79.0.tar.gz StartedAt: 2025-02-21 01:59:12 -0500 (Fri, 21 Feb 2025) EndedAt: 2025-02-21 01:59:48 -0500 (Fri, 21 Feb 2025) EllapsedTime: 36.0 seconds RetCode: 0 Status: WARNINGS CheckDir: gpls.Rcheck Warnings: 1