Package: gpls Version: 1.79.0 Command: chmod a+r gpls -R && E:\biocbuild\bbs-3.21-bioc\R\bin\R.exe CMD build --keep-empty-dirs --no-resave-data gpls StartedAt: 2025-02-20 19:07:31 -0500 (Thu, 20 Feb 2025) EndedAt: 2025-02-20 19:07:48 -0500 (Thu, 20 Feb 2025) EllapsedTime: 16.7 seconds RetCode: 0 Status: OK PackageFile: gpls_1.79.0.tar.gz PackageFileSize: 102.9 KiB