Package: gpls Version: 1.79.0 Command: /home/biocbuild/bbs-3.21-bioc/R/bin/R CMD INSTALL gpls StartedAt: 2025-02-20 15:01:45 -0500 (Thu, 20 Feb 2025) EndedAt: 2025-02-20 15:01:47 -0500 (Thu, 20 Feb 2025) EllapsedTime: 2.6 seconds RetCode: 0 Status: OK