Package: gpls Version: 1.79.0 Command: /home/biocbuild/bbs-3.21-bioc/R/bin/R CMD build --keep-empty-dirs --no-resave-data gpls StartedAt: 2025-02-20 17:40:18 -0500 (Thu, 20 Feb 2025) EndedAt: 2025-02-20 17:40:27 -0500 (Thu, 20 Feb 2025) EllapsedTime: 9.0 seconds RetCode: 0 Status: OK PackageFile: gpls_1.79.0.tar.gz PackageFileSize: 233 KiB