Package: gpls Version: 1.79.0 Command: /Library/Frameworks/R.framework/Resources/bin/R CMD build --keep-empty-dirs --no-resave-data gpls StartedAt: 2025-02-20 16:53:09 -0500 (Thu, 20 Feb 2025) EndedAt: 2025-02-20 16:53:23 -0500 (Thu, 20 Feb 2025) EllapsedTime: 14.8 seconds RetCode: 0 Status: OK PackageFile: gpls_1.79.0.tar.gz PackageFileSize: 232.5 KiB