Package: gpls Version: 1.79.0 Command: /Library/Frameworks/R.framework/Resources/bin/R CMD check --install=check:gpls.install-out.txt --library=/Library/Frameworks/R.framework/Resources/library --no-vignettes --timings gpls_1.79.0.tar.gz StartedAt: 2025-02-20 19:35:27 -0500 (Thu, 20 Feb 2025) EndedAt: 2025-02-20 19:35:38 -0500 (Thu, 20 Feb 2025) EllapsedTime: 11.2 seconds RetCode: 0 Status: WARNINGS CheckDir: gpls.Rcheck Warnings: 1