Package: goseq Version: 1.59.0 Command: rm -rf goseq.buildbin-libdir && mkdir goseq.buildbin-libdir && E:\biocbuild\bbs-3.21-bioc\R\bin\R.exe CMD INSTALL --build --library=goseq.buildbin-libdir goseq_1.59.0.tar.gz StartedAt: 2025-02-22 08:29:16 -0500 (Sat, 22 Feb 2025) EndedAt: 2025-02-22 08:29:58 -0500 (Sat, 22 Feb 2025) EllapsedTime: 42.6 seconds RetCode: 0 Status: OK PackageFile: goseq_1.59.0.zip PackageFileSize: 1.738 MiB