Package: goTools Version: 1.82.0 Command: /home/biocbuild/R/R/bin/R CMD build --keep-empty-dirs --no-resave-data goTools StartedAt: 2025-10-14 01:24:47 -0000 (Tue, 14 Oct 2025) EndedAt: 2025-10-14 01:25:12 -0000 (Tue, 14 Oct 2025) EllapsedTime: 25.0 seconds RetCode: 0 Status: OK PackageFile: goTools_1.82.0.tar.gz PackageFileSize: 235 KiB