Package: goTools Version: 1.82.0 Command: /Library/Frameworks/R.framework/Resources/bin/R CMD INSTALL goTools StartedAt: 2025-10-13 17:43:13 -0400 (Mon, 13 Oct 2025) EndedAt: 2025-10-13 17:43:27 -0400 (Mon, 13 Oct 2025) EllapsedTime: 13.9 seconds RetCode: 0 Status: OK