Package: goTools Version: 1.82.0 Command: /Library/Frameworks/R.framework/Resources/bin/R CMD build --keep-empty-dirs --no-resave-data goTools StartedAt: 2025-10-14 01:37:20 -0400 (Tue, 14 Oct 2025) EndedAt: 2025-10-14 01:37:47 -0400 (Tue, 14 Oct 2025) EllapsedTime: 27.5 seconds RetCode: 0 Status: OK PackageFile: goTools_1.82.0.tar.gz PackageFileSize: 242 KiB