Package: goSorensen Version: 1.9.0 Command: /home/biocbuild/bbs-3.21-bioc/R/bin/R CMD check --install=check:goSorensen.install-out.txt --library=/home/biocbuild/bbs-3.21-bioc/R/site-library --timings goSorensen_1.9.0.tar.gz StartedAt: 2025-02-19 22:48:14 -0500 (Wed, 19 Feb 2025) EndedAt: 2025-02-19 23:09:22 -0500 (Wed, 19 Feb 2025) EllapsedTime: 1267.9 seconds RetCode: 0 Status: OK CheckDir: goSorensen.Rcheck Warnings: 0