Package: goSorensen Version: 1.9.0 Command: /Library/Frameworks/R.framework/Resources/bin/R CMD INSTALL goSorensen StartedAt: 2025-02-20 15:20:40 -0500 (Thu, 20 Feb 2025) EndedAt: 2025-02-20 15:20:45 -0500 (Thu, 20 Feb 2025) EllapsedTime: 5.5 seconds RetCode: 0 Status: OK