Package: goSorensen Version: 1.9.0 Command: /Library/Frameworks/R.framework/Resources/bin/R CMD check --install=check:goSorensen.install-out.txt --library=/Library/Frameworks/R.framework/Resources/library --no-vignettes --timings goSorensen_1.9.0.tar.gz StartedAt: 2025-02-20 19:34:32 -0500 (Thu, 20 Feb 2025) EndedAt: 2025-02-20 19:39:08 -0500 (Thu, 20 Feb 2025) EllapsedTime: 275.3 seconds RetCode: 0 Status: OK CheckDir: goSorensen.Rcheck Warnings: 0